BEGIN:VCALENDAR
VERSION:2.0
PRODID:-//InvisionCommunity Events 4.7.19//EN
METHOD:PUBLISH
CALSCALE:GREGORIAN
REFRESH-INTERVAL:PT15M
X-PUBLISHED-TTL:PT15M
X-WR-CALNAME:Х2
NAME:Х2
BEGIN:VTIMEZONE
TZID:Europe/London
TZURL:http://tzurl.org/zoneinfo/Europe/London
X-LIC-LOCATION:Europe/London
BEGIN:DAYLIGHT
TZOFFSETFROM:+0000
TZOFFSETTO:+0100
TZNAME:BST
DTSTART:20230326T020000Z
RRULE:FREQ=YEARLY;BYMONTH=3;BYDAY=-1SU
END:DAYLIGHT
BEGIN:STANDARD
TZOFFSETFROM:+0100
TZOFFSETTO:+0000
TZNAME:GMT
DTSTART:20231029T020000Z
RRULE:FREQ=YEARLY;BYMONTH=10;BYDAY=-1SU
END:STANDARD
END:VTIMEZONE
BEGIN:VTIMEZONE
TZID:Europe/London
TZURL:http://tzurl.org/zoneinfo/Europe/London
X-LIC-LOCATION:Europe/London
BEGIN:DAYLIGHT
TZOFFSETFROM:+0000
TZOFFSETTO:+0100
TZNAME:BST
DTSTART:20240331T020000Z
RRULE:FREQ=YEARLY;BYMONTH=3;BYDAY=-1SU
END:DAYLIGHT
BEGIN:STANDARD
TZOFFSETFROM:+0100
TZOFFSETTO:+0000
TZNAME:GMT
DTSTART:20241027T020000Z
RRULE:FREQ=YEARLY;BYMONTH=10;BYDAY=-1SU
END:STANDARD
END:VTIMEZONE
BEGIN:VEVENT
SUMMARY:Аукцион от RS Haul в Caligula's Palace.
DTSTAMP:20231110T171652Z
SEQUENCE:0
UID:10-1-99c5596dd83718b5984efa5048cab4e6@mta-rp.com
ORGANIZER;CN="OS:EF v.2.0":support@mta-rp.com
DESCRIPTION:\n	IC мероприяти
	е.\n\n	Возможно
	сть интересно провести вре
	мя и приобрести машины по низкой цене.\n\n
DTSTART:20231110T180000Z
DTEND:20231110T183000Z
END:VEVENT
BEGIN:VEVENT
SUMMARY:Х2 донат
DTSTAMP:20231031T110126Z
SEQUENCE:0
UID:3-1-99c5596dd83718b5984efa5048cab4e6@mta-rp.com
ORGANIZER;CN="OS:EF v.2.0":support@mta-rp.com
DESCRIPTION:\n	Включение акции х2
	 доната. \n\n\n\n	В 
	этот день любое пополнение донат счё
	та будет удвоено. \n\n
DTSTART;VALUE=DATE:20231118
END:VEVENT
BEGIN:VEVENT
SUMMARY:Х2 донат
DTSTAMP:20231031T110302Z
SEQUENCE:0
UID:8-1-99c5596dd83718b5984efa5048cab4e6@mta-rp.com
ORGANIZER;CN="OS:EF v.2.0":support@mta-rp.com
DESCRIPTION:\n	Включение акции х2
	 доната. \n\n\n\n	В 
	этот день любое пополнение донат счё
	та будет удвоено. \n\n
DTSTART;VALUE=DATE:20240101
END:VEVENT
BEGIN:VEVENT
SUMMARY:Х2 донат
DTSTAMP:20231031T110246Z
SEQUENCE:0
UID:7-1-99c5596dd83718b5984efa5048cab4e6@mta-rp.com
ORGANIZER;CN="OS:EF v.2.0":support@mta-rp.com
DESCRIPTION:\n	Включение акции х2
	 доната. \n\n\n\n	В 
	этот день любое пополнение донат счё
	та будет удвоено. \n\n
DTSTART;VALUE=DATE:20231231
END:VEVENT
BEGIN:VEVENT
SUMMARY:Х2 донат
DTSTAMP:20231031T110230Z
SEQUENCE:0
UID:6-1-99c5596dd83718b5984efa5048cab4e6@mta-rp.com
ORGANIZER;CN="OS:EF v.2.0":support@mta-rp.com
DESCRIPTION:\n	Включение акции х2
	 доната. \n\n\n\n	В 
	этот день любое пополнение донат счё
	та будет удвоено. \n\n
DTSTART;VALUE=DATE:20231230
END:VEVENT
BEGIN:VEVENT
SUMMARY:Х2 донат
DTSTAMP:20231031T110214Z
SEQUENCE:0
UID:5-1-99c5596dd83718b5984efa5048cab4e6@mta-rp.com
ORGANIZER;CN="OS:EF v.2.0":support@mta-rp.com
DESCRIPTION:\n	Включение акции х2
	 доната. \n\n\n\n	В 
	этот день любое пополнение донат счё
	та будет удвоено. \n\n
DTSTART;VALUE=DATE:20231216
END:VEVENT
BEGIN:VEVENT
SUMMARY:Х2 донат
DTSTAMP:20231031T110152Z
SEQUENCE:0
UID:4-1-99c5596dd83718b5984efa5048cab4e6@mta-rp.com
ORGANIZER;CN="OS:EF v.2.0":support@mta-rp.com
DESCRIPTION:\n	Включение акции х2
	 доната. \n\n\n\n	В 
	этот день любое пополнение донат счё
	та будет удвоено. \n\n
DTSTART;VALUE=DATE:20231202
END:VEVENT
BEGIN:VEVENT
SUMMARY:Х2 донат
DTSTAMP:20231031T110106Z
SEQUENCE:0
UID:2-1-99c5596dd83718b5984efa5048cab4e6@mta-rp.com
ORGANIZER;CN="OS:EF v.2.0":support@mta-rp.com
DESCRIPTION:\n	Включение акции х2
	 доната. \n\n\n\n	В 
	этот день любое пополнение донат счё
	та будет удвоено. \n\n
DTSTART;VALUE=DATE:20231104
END:VEVENT
BEGIN:VEVENT
SUMMARY:Х2 донат
DTSTAMP:20231031T104838Z
SEQUENCE:0
UID:1-1-99c5596dd83718b5984efa5048cab4e6@mta-rp.com
ORGANIZER;CN="OS:EF v.2.0":support@mta-rp.com
DESCRIPTION:\n	Включение акции х2
	 доната. \n\n\n\n	В 
	этот день любое пополнение донат счё
	та будет удвоено. \n\n
DTSTART;VALUE=DATE:20231031
END:VEVENT
END:VCALENDAR
